BEGIN:VCALENDAR
VERSION:2.0
PRODID:-//potential.lu - ECPv4.9.5//NONSGML v1.0//EN
CALSCALE:GREGORIAN
METHOD:PUBLISH
X-WR-CALNAME:potential.lu
X-ORIGINAL-URL:http://potential.lu
X-WR-CALDESC:Events for potential.lu
BEGIN:VTIMEZONE
TZID:"Europe/Luxembourg"
BEGIN:DAYLIGHT
TZOFFSETFROM:+0100
TZOFFSETTO:+0200
TZNAME:CEST
DTSTART:20200329T010000
END:DAYLIGHT
BEGIN:STANDARD
TZOFFSETFROM:+0200
TZOFFSETTO:+0100
TZNAME:CET
DTSTART:20201025T010000
END:STANDARD
END:VTIMEZONE
BEGIN:VEVENT
DTSTART;TZID="Europe/Luxembourg":20200629T160000
DTEND;TZID="Europe/Luxembourg":20200629T190000
DTSTAMP:20200812T075044
CREATED:20200217T105030Z
LAST-MODIFIED:20200513T135125Z
UID:1278-1593446400-1593457200@potential.lu
SUMMARY:TES COMPÉTENCES POUR TON JOB
DESCRIPTION:TES COMPÉTENCES POUR TON JOB/ DENG KOMPETENZEN FIR DENG AARBECHT\n  \nTu as entre 16 et 30 ans? \nTu cherches un emploi ou une orientation pour un parcours d’apprentissage ou d’études ? \nTu as envie de découvrir ce qui repose en toi et de pouvoir t’engager dans ce qui est important pour toi ? \n4motion t’offre le plein de possibilités pour avancer selon tes besoins ! \n  \nSoutien et accompagnement individuel : \n• Renforcement de ton potentiel \n• Reconnaissance et renforcement de tes compétences sociales et techniques \n• Préparation à la recherche d’emploi et à la vie professionnelle \n• Simulation d’entretiens d’embauche \n• Mise en contact avec des entreprises pour des stages et des opportunités d’emploi \nJ’ai ma place dans cette société – je suis soutenu pour la prendre !  \n  \nQuand : 29.06.2020 \nHoraire : 16:00 –19:00 \nFormateur : Mehdi \n  \nINSCRIPTIONS Clickez ICI!!! \n
URL:http://potential.lu/event/tes-competences-pour-ton-job-3/
LOCATION:Forum Geesseknäppchen\, 40\, blv Pierre Dupong\, Luxembourg\, Luxembourg\, L-1430\, Luxembourg
CATEGORIES:FORMATIONS
ATTACH;FMTTYPE=image/jpeg:http://potential.lu/wp-content/uploads/2020/02/PIC_MAILCHIMPO3.jpg
ORGANIZER;CN="4motion%20asbl":MAILTO:potential@4motion.lu
END:VEVENT
END:VCALENDAR